BEGIN:VCALENDAR
VERSION:2.0
PRODID:City of Coos Bay Calendar Creator
METHOD:PUBLISH
BEGIN:VEVENT
DTSTAMP:20260422T081319
DTSTART:20260507T180000
DTEND:20260507T181500
SUMMARY:Budget Committee Meeting - Urban Renewal Agency
DESCRIPTION:A public meeting of the Budget Committee of the Urban Renewal Agency of the City of Coos Bay, Coos County, Oregon will be held to discuss the budget for fiscal year July 1, 2026, to June 30, 2027, on May 7, 2026, at 6:00 pm. The purpose of the meeting is to receive the budget message and receive comment from the public on the budget. Public comments will be accepted at this meeting. This is a public meeting where deliberation of the Budget Committee will take place. Any person may appear at the meeting and discuss the proposed programs with the Budget Committee. Beginning April 21 2026, the proposed budget and meeting notice are available on the city’s website at&nbsp;<a href="https://www.coosbayor.gov/?splash=http%3a%2f%2fwww.coosbayor.gov&amp;____isexternal=true" data-auth="NotApplicable" originalsrc="http://www.coosbayor.org/" data-linkindex="0" target="_blank" rel="noopener">www.coosbayor.gov</a>&nbsp;and electronic copies can be requested by contacting the finance department 541-269-8915 or&nbsp;<a href="mailto:finance@coosbayor.gov" data-linkindex="1">finance@coosbayor.gov</a>
X-ALT-DESC;FMTTYPE=text/html:A public meeting of the Budget Committee of the Urban Renewal Agency of the City of Coos Bay, Coos County, Oregon will be held to discuss the budget for fiscal year July 1, 2026, to June 30, 2027, on May 7, 2026, at 6:00 pm. The purpose of the meeting is to receive the budget message and receive comment from the public on the budget. Public comments will be accepted at this meeting. This is a public meeting where deliberation of the Budget Committee will take place. Any person may appear at the meeting and discuss the proposed programs with the Budget Committee. Beginning April 21 2026, the proposed budget and meeting notice are available on the city’s website at&nbsp;<a href="https://www.coosbayor.gov/?splash=http%3a%2f%2fwww.coosbayor.gov&amp;____isexternal=true" data-auth="NotApplicable" originalsrc="http://www.coosbayor.org/" data-linkindex="0" target="_blank" rel="noopener">www.coosbayor.gov</a>&nbsp;and electronic copies can be requested by contacting the finance department 541-269-8915 or&nbsp;<a href="mailto:finance@coosbayor.gov" data-linkindex="1">finance@coosbayor.gov</a>
LOCATION:Coos Bay City Hall - Council Chambers\, 500 Central Avenue Coos Bay\, Oregon 97420
CLASS:PUBLIC
END:VEVENT
END:VCALENDAR
