BEGIN:VCALENDAR
VERSION:2.0
PRODID:City of Coos Bay Calendar Creator
METHOD:PUBLISH
BEGIN:VEVENT
DTSTAMP:20260204T092951
DTSTART:20260509T100000
DTEND:20260509T120000
SUMMARY:OBAB Second Saturday Cleanup
DESCRIPTION:
X-ALT-DESC;FMTTYPE=text/html:
LOCATION:Airport Heights Park\, North Bend\, 
CLASS:PUBLIC
END:VEVENT
END:VCALENDAR
