BEGIN:VCALENDAR
VERSION:2.0
PRODID:City of Coos Bay Calendar Creator
METHOD:PUBLISH
BEGIN:VEVENT
DTSTAMP:20260331T085600
DTSTART:20260411T130000
DTEND:20260411T150000
SUMMARY:OBAB Second Saturday Cleanup
DESCRIPTION:
X-ALT-DESC;FMTTYPE=text/html:
LOCATION:SWOCC Campus Trails\, 
CLASS:PUBLIC
END:VEVENT
END:VCALENDAR
