BEGIN:VCALENDAR
VERSION:2.0
PRODID:City of Coos Bay Calendar Creator
METHOD:PUBLISH
BEGIN:VEVENT
DTSTAMP:20260204T083907
DTSTART:20260516T110000
DTEND:20260516T150000
SUMMARY:Mayfly Festival
DESCRIPTION:<p></p><p>The Coos Watershed Association and community partners invite you to attend the 10<sup>th</sup>&nbsp;annual Mayfly Festival on Saturday, May 16 from 11 a.m. - 3 p.m. at Mingus Park in Coos Bay. The Mayfly Festival is a free, all-ages, hands-on celebration of watershed ecology and interconnectedness, designed to shed light on the connections between community, the environment, and water. The festival features over twenty science and art activity booths led by community members. Attendees can also make a costume, enjoy local food, and dance to live music. Fun for all ages! For more information, visit <a href="https://cooswatershed.org/mayfly-festival/" target="_blank" rel="noopener">Mayfly Festival – Coos Watershed Association</a> or follow the Coos Watershed Association on social media.</p><p>Why the mayfly? Mayflies are…</p><ul type="disc">    <li>Symbols of healthy water, connectivity, rebirth, and the role we can play in helping ecosystems thrive.</li>    <li>A critical piece of the aquatic food web: streamside trees drop leaves in the water that feed the mayflies, mayflies feed the salmon, salmon feed the trees.</li>    <li>Bioindicators: they can only live in areas with healthy water quality, and this is something that we as humans impact every day.</li>    <li>Just fun! They have a crazy life cycle, live underwater for months to years but only for one day as adults--they are truly fascinating creatures! Come to the festival to learn more!</li></ul>
X-ALT-DESC;FMTTYPE=text/html:<p></p><p>The Coos Watershed Association and community partners invite you to attend the 10<sup>th</sup>&nbsp;annual Mayfly Festival on Saturday, May 16 from 11 a.m. - 3 p.m. at Mingus Park in Coos Bay. The Mayfly Festival is a free, all-ages, hands-on celebration of watershed ecology and interconnectedness, designed to shed light on the connections between community, the environment, and water. The festival features over twenty science and art activity booths led by community members. Attendees can also make a costume, enjoy local food, and dance to live music. Fun for all ages! For more information, visit <a href="https://cooswatershed.org/mayfly-festival/" target="_blank" rel="noopener">Mayfly Festival – Coos Watershed Association</a> or follow the Coos Watershed Association on social media.</p><p>Why the mayfly? Mayflies are…</p><ul type="disc">    <li>Symbols of healthy water, connectivity, rebirth, and the role we can play in helping ecosystems thrive.</li>    <li>A critical piece of the aquatic food web: streamside trees drop leaves in the water that feed the mayflies, mayflies feed the salmon, salmon feed the trees.</li>    <li>Bioindicators: they can only live in areas with healthy water quality, and this is something that we as humans impact every day.</li>    <li>Just fun! They have a crazy life cycle, live underwater for months to years but only for one day as adults--they are truly fascinating creatures! Come to the festival to learn more!</li></ul>
LOCATION:Mingus Park\, 230 N 10th St Coos Bay\, Oregon 97420
CLASS:PUBLIC
END:VEVENT
END:VCALENDAR
