BEGIN:VCALENDAR
VERSION:2.0
PRODID:City of Coos Bay Calendar Creator
METHOD:PUBLISH
BEGIN:VEVENT
DTSTAMP:20241206T113818
DTSTART:20260604T160000
DTEND:20260604T170000
SUMMARY:Parks Commission work session
DESCRIPTION:Documents are available on the <a href="https://coos2.prod-as.govaccess.org/government/agendas-and-minutes">Agendas and Minutes</a>&nbsp;page
X-ALT-DESC;FMTTYPE=text/html:Documents are available on the <a href="https://coos2.prod-as.govaccess.org/government/agendas-and-minutes">Agendas and Minutes</a>&nbsp;page
LOCATION:Coos Bay City Hall - Council Chambers\, 500 Central Avenue Coos Bay\, Oregon 97420
CLASS:PUBLIC
END:VEVENT
END:VCALENDAR
